Workbook

Sheet 扉-3 投标总价扉页
B1: 竹料基建仓路口房（中心街一巷2号东）维修 | G1: 工程
A2: 投 标 总 价
A3: 招 标 人：
A4: 工 程 名 称： | C4: 竹料基建仓路口房（中心街一巷2号东）维修工程
A5: 投 标 总 价 | C5: （小写）：
C6: （大写）： | D6: X万X仟X佰X拾X元X角X分
A7: 投 标 人：
C8: (单位盖章)
A9: 法定代表人 或其授权人：
C10: (签字或盖章)
A11: 编 制 人：
C12: （造价人员签字盖专用章）
A13: 编 制 时 间：
G14: 扉-3

Sheet 表-04 单位工程投标报价汇总表
A1: 单位工程投标报价汇总表
A2: 工程名称：竹料基建仓路口房（中心街一巷2号东）维修工程 | D2: 标段： | E2: 第 1 页 共 1 页
A3: 序号 | B3: 汇总内容 | C3: 金额:(元) | F3: 其中：暂估价(元)
A4: 1 | B4: 分部分项合计 | C4: ='表-08 分部分项工程和单价措施项目清单与计价表'!J80 -> 0
A5: 2 | B5: 措施合计 | C5: =C6+C7 -> 0
A6: 2.1 | B6: 安全防护、文明施工措施项目费 | C6: ='表-11 总价措施项目清单与计价表'!G4 -> 0
A7: 2.2 | B7: 其他措施费
A8: 3 | B8: 其他项目
A9: 3.1 | B9: 材料检验试验费
A10: 3.2 | B10: 工程优质费
A11: 3.3 | B11: 暂列金额
A12: 3.4 | B12: 暂估价
A13: 3.5 | B13: 计日工
A14: 3.6 | B14: 总承包服务费
A15: 3.7 | B15: 材料保管费
A16: 3.8 | B16: 预算包干费
A17: 3.9 | B17: 索赔费用
A18: 3.10 | B18: 现场签证费用
A19: 4 | B19: 规费 | C19: ='表-13 规费、税金项目清单与计价表'!H4 -> 0
A20: 5 | B20: 税金 | C20: ='表-13 规费、税金项目清单与计价表'!H9 -> 0
A21: 6 | B21: 总造价 | C21: =C4+C5+C8+C19+C20 -> 0
A22: 7 | B22: 人工费
A36: 投标报价合计=1+2+3+4+5 | C36: =C21 -> 0
A37: 注：本表适用于单位工程招标控制价或投标报价的汇总，如无单位工程划分，单项工程也使用本表汇总
E38: 表—04

Sheet 表-08 分部分项工程和单价措施项目清单与计价表
A1: 分部分项工程和单价措施项目清单与计价表
A2: 工程名称：竹料基建仓路口房（中心街一巷2号东）维修工程 | E2: 标段： | H2: 第 1 页 共 4 页
A3: 序号 | B3: 项目编码 | C3: 项目名称 | D3: 项目特征描述 | F3: 计量单位 | G3: 工程量 | I3: 金额（元）
I4: 综合单价 | J4: 综合合价 | K4: 其中：暂估价
C5: 整个项目
A6: 1 | B6: 粤R1-1-71 | C6: 人工单项拆除 小青瓦(土瓦) | D6: 1、人工拆除原有屋面瓦、木梁、木檩条； 2、拆除、清运、运距综合考虑。 | F6: m2 | G6: 45.7 | J6: =G6*I6 -> 0
A7: 2 | B7: 粤R1-1-67 | C7: 人工单项拆除 木(塑料)窗 | D7: 1、人工拆除原有木窗4扇，规格：0.9*1.2； 2、拆除、清运、运距综合考虑。 | F7: m2 | G7: 4.32 | J7: =G7*I7 -> 0
A8: 3 | B8: 粤R1-9-15 | C8: 人工装自卸汽车运室内杂物 运距1km | D8: 1、人工清扫、搬运屋内废旧物品、杂物； 2、含二次搬运、拆除、清运、运距综合考虑。 | F8: m3 | G8: 21.09 | J8: =G8*I8 -> 0
A9: 4 | B9: 010901002001 | C9: 型材屋面（岩棉彩钢夹芯瓦） | D9: 1.型材品种、规格、颜色:0.426mm压型彩钢板+50mm岩棉+0.375mm压型彩钢板。 2.骨架材料品种、规格:檩条采用Q235冷弯薄壁C型钢,C100*50*20*3mm，檩条安装间距1000mm，檩条间采用圆钢10mm进行拉结。 3.接缝、嵌缝材料种类:丁基橡胶密封粘结带。 4.檩条、拉杆涂刷两遍白色金属漆。 | F9: m2 | G9: 45.7 | J9: =G9*I9 -> 0
A10: 5 | B10: 粤R1-7-95 | C10: 墙身密封收口及固定檩条(普通做法) 平面 | D10: 1.放线、定位、檩条固定位置拆除清理砖块。 2.檩条安装完，砖墙顶面水泥砂浆找平，固定檩条端部。 | F10: m | G10: 12 | J10: =G10*I10 -> 0
A11: 6 | B11: 010607001001 | C11: 成品不锈钢水槽 | D11: 1.水槽规格：202不锈钢，厚度1.2mm；长*宽*高：按实际*200*300mm； 2.制作镀锌角钢支架，间距1000mm； 3.约9m不锈钢水沟。 | F11: m | G11: 9 | J11: =G11*I11 -> 0
A12: 本页小计 | J12: =SUM(J6:J11) -> 0
A13: 注：为计取规费等的使用，可在表中增设其中：“定额人工费”。
H14: 表—08
A15: 分部分项工程和单价措施项目清单与计价表
A16: 工程名称：竹料基建仓路口房（中心街一巷2号东）维修工程 | E16: 标段： | H16: 第 2 页 共 4 页
A17: 序号 | B17: 项目编码 | C17: 项目名称 | D17: 项目特征描述 | F17: 计量单位 | G17: 工程量 | I17: 金额（元）
I18: 综合单价 | J18: 综合合价 | K18: 其中：暂估价
A19: 7 | B19: 031001006001 | C19: 塑料管（排水管） | D19: 1.安装部位:室外 2.输送介质:排水 3.材质:UPVC 4.型号、规格:DN1OOmm 5.连接方式:粘接连接 | F19: m | G19: 12 | J19: =G19*I19 -> 0
A20: 8 | B20: 粤R1-8-10 | C20: 外墙裂缝修补 水泥砂浆修补 立面 | D20: 1.水泥砂浆修补裂缝； 2.场内所有砖墙外立面裂缝修复。 | F20: m | G20: 10 | J20: =G20*I20 -> 0
A21: 9 | B21: 粤R1-6-4 | C21: 邻里土瓦屋面修补 （与岩棉夹心瓦交接处） | D21: 1、拆除瓦面，砂浆（制作）运输，铺瓦、安装瓦脊、座灰、抹脚。 2、金属型材屋面与土瓦屋面交界处水泥砂浆抹面，起拱高度约20cm。 | F21: m2 | G21: 12 | J21: =G21*I21 -> 0
A22: 10 | B22: 粤R1-7-3 | C22: 山墙与岩棉夹心瓦交接处防水处理 | D22: 1、采用定制彩钢板泛水做法，钢钉固定至山墙； 2、耐候密封胶密封处理，面装彩钢板条挡水。 | F22: m2 | G22: 12 | J22: =G22*I22 -> 0
A23: 11 | B23: 011401002001 | C23: 金属门油漆 | D23: 1.门类型:钢门 2.要求:单层钢门表面除锈、清理、打磨；刷红丹防锈漆两遍。 3.油漆品种、刷漆遍数:银色调和漆两遍 | F23: m2 | G23: 4.55 | J23: =G23*I23 -> 0
A24: 12 | B24: 010807001001 | C24: 金属(塑钢、断桥)窗 | D24: 1、铝合金固定窗制作、安装，型材厚度1.0mm。 2、规格：1.2*0.9m。 | F24: m2 | G24: 4.32 | J24: =G24*I24 -> 0
A25: 13 | B25: 010807005001 | C25: 不锈钢防盗网 | D25: 1、防盗网制作、安装，型材厚度1.0mm，加固型10mm圆钢。 2、规格：1.5*1.2m。 | F25: m2 | G25: 7.2 | J25: =G25*I25 -> 0
A26: 14 | B26: 粤R1-1-71 | C26: 人工单项拆除 原木阁楼、钢楼梯 | D26: 1、人工拆除原有木阁楼、木梁、木檩条； 2、拆除、清运、运距综合考虑。 | F26: m2 | G26: 45.7 | J26: =G26*I26 -> 0
A27: 15 | B27: 030411001001 | C27: 配管 4分联塑阻燃绝缘PVC线管 | D27: 1.名称:塑料管 2.材质:阻燃绝缘PVC线管 联塑牌 3.规格:DN20mm 4.配置形式及部位:吊棚内 | F27: m | G27: 22.5 | J27: =G27*I27 -> 0
A28: 本页小计 | J28: =SUM(J19:J27) -> 0
A29: 注：为计取规费等的使用，可在表中增设其中：“定额人工费”。
H30: 表—08
A31: 分部分项工程和单价措施项目清单与计价表
A32: 工程名称：竹料基建仓路口房（中心街一巷2号东）维修工程 | E32: 标段： | H32: 第 3 页 共 4 页
A33: 序号 | B33: 项目编码 | C33: 项目名称 | D33: 项目特征描述 | F33: 计量单位 | G33: 工程量 | I33: 金额（元）
I34: 综合单价 | J34: 综合合价 | K34: 其中：暂估价
A35: 16 | B35: 030411002001 | C35: 线槽 4分联塑阻燃绝缘PVC线槽 | D35: 1.材质:塑料 2.规格:宽50间以下 阻燃绝缘PVC线槽，四分线槽 联塑牌 3.配置部位:墙上 | F35: m | G35: 61.75 | J35: =G35*I35 -> 0
A36: 17 | B36: 030411004001 | C36: 配线 BV-2.5mm2 珠江牌电缆 | D36: 1.配线形式:塑料护套线明敷 2.导线型号、材质、规格:BV-450／750V-2.5mm2 3.敷设部位或线制:砖、混凝土结构粘接三线 | F36: m | G36: 600 | J36: =G36*I36 -> 0
A37: 18 | B37: 030411006001 | C37: 接线盒 照明、排气扇开关面板 | D37: 1.名称:开关面板、三雄牌 2.材质:绝缘PVC材料 3.安装形式:明装 | F37: 个 | G37: 5 | J37: =G37*I37 -> 0
A38: 19 | B38: 030411006002 | C38: 接线盒 二三插 | D38: 1.名称:二三插底盒+面板，三雄牌 2.材质:绝缘PVC材料 3.安装形式:明装 | F38: 个 | G38: 12 | J38: =G38*I38 -> 0
A39: 20 | B39: 030411005001 | C39: 配电箱 | D39: 1.名称:珠江牌配电箱 2.材质:优质冷轧钢板、静电喷塑料 3.规格:201*215*95 4.安装形式:明装 | F39: 个 | G39: 1 | J39: =G39*I39 -> 0
A40: 21 | B40: 030412005001 | C40: 荧光灯（600*600LED灯盘） | D40: 1.名称:成套600*600LED灯盘 2.型号:36W 3.规格:LED灯盘 4.安装形式:嵌入式 | F40: 套 | G40: 2 | J40: =G40*I40 -> 0
...

Sheet 表-11 总价措施项目清单与计价表
A1: 总价措施项目清单与计价表
A2: 工程名称：竹料基建仓路口房（中心街一巷2号东）维修工程 | F2: 标段： | I2: 第 1 页 共 1 页
A3: 序号 | B3: 项目编码 | C3: 项目名称 | D3: 计算基础 | E3: 费率 (%) | G3: 金额 (元) | H3: 调整费率 (%) | J3: 调整后 金额 (元) | K3: 备注
A4: 1 | B4: 011707001001 | C4: 文明施工与环境保护、临时设施、安全施工 | D4: 分部分项合计 | E4: 3.8796 | G4: =0.038796*'表-08 分部分项工程和单价措施项目清单与计价表'!J80 -> 0 | K4: 以分部分项工程费为计算基础，费率3.8796%
A5: 2 | B5: WMGDZJF00001 | C5: 文明工地增加费 | D5: 分部分项合计 | E5: 0 | K5: 以分部分项工程费为计算基础，市级文明工地为0.4%；省级文明工地为0.7%
A6: 3 | B6: 011707002001 | C6: 夜间施工增加费 | E6: 20 | K6: 以夜间施工项目人工费的20%计算
A7: 4 | B7: GGCSF0000001 | C7: 赶工措施 | D7: 分部分项合计 | E7: 0 | K7: 赶工措施费=（1-δ）*分部分项工程费*0.1 （0.8≤δ＜1 式中：δ=合同工期/定额工期）
A8: 5 | B8: NJCCQZJCC001 | C8: 泥浆池(槽)砌筑及拆除 | K8: 钻(冲)孔桩、旋挖成孔灌注桩、微型桩，费用标准为:26.26元/m3； 地下连续墙费用标准为:42.11元/m3
A12: 合 计 | G12: =SUM(G4:G11) -> 0
A13: 编制人（造价人员）： | F13: 复核人（造价工程师）：
A14: 注：1.“计算基础”中安全文明施工费可为“定额基价”、“定额人工费”或“定额人工费+定额机械费”，其他项目可为“定额人工费”或“定额人工费+定额机械费”。 2.按施工方案计算的措施费，若无“计算基础”和“费率”的数值，也可只填“金额”数值，但应在备注栏说明施工方案出处或计算方法。
I15: 表-11

Sheet 表-13 规费、税金项目清单与计价表
A1: 规费、税金项目清单与计价表
A2: 工程名称：竹料基建仓路口房（中心街一巷2号东）维修工程 | D2: 标段： | G2: 第 1 页 共 1 页
A3: 序号 | B3: 项目名称 | C3: 计算基础 | E3: 取费基数 | F3: 计算费率 (%) | H3: 金额(元)
A4: 1 | B4: 规费 | C4: 规费合计 | H4: =SUM(H5:H8) -> 0
A5: 1.1 | B5: 工程排污费 | C5: 分部分项合计+措施合计+其他项目 | F5: 0
A6: 1.2 | B6: 施工噪音排污费 | C6: 分部分项合计+措施合计+其他项目 | F6: 0
A7: 1.3 | B7: 防洪工程维护费 | C7: 分部分项合计+措施合计+其他项目 | F7: 0
A8: 1.4 | B8: 危险作业意外伤害保险 | C8: 分部分项合计+措施合计+其他项目 | F8: 0.1 | H8: =0.001*('表-08 分部分项工程和单价措施项目清单与计价表'!J80+'表-11 总价措施项目清单与计价表'!G12) -> 0
A9: 2 | B9: 税金 | C9: 分部分项合计+措施合计+其他项目+规费 | F9: 11 | H9: =0.11*('表-08 分部分项工程和单价措施项目清单与计价表'!J80+'表-11 总价措施项目清单与计价表'!G12+H4) -> 0
A33: 合 计 | H33: =H4+H9 -> 0
A34: 编制人（造价人员）： | D34: 复核人（造价工程师）：
G35: 表—13
