Workbook

Sheet 封-3 投标总价封面
B1: 广州市白云区供销总公司厨房燃气管道安装 | G1: 工程
A2: 投 标 总 价
C3: 投 标 人： | D3: （必填）
D4: (单位盖章)
D5: 年 月 日
G7: 封-3

Sheet 扉-3 投标总价扉页
B1: 广州市白云区供销总公司厨房燃气管道安装 | G1: 工程
A2: 投 标 总 价
A3: 招 标 人： | C3: 广州市白云区供销总公司
A4: 工 程 名 称： | C4: 广州市白云区供销总公司厨房燃气管道安装工程
A5: 投 标 总 价 | C5: （小写）： | D5: （必填）
C6: （大写）： | D6: X万X仟X佰X拾X元X角X分（必填）
A7: 投 标 人： | C7: （必填）
C8: (单位盖章)
A9: 法定代表人 或其授权人： | C9: （必填）
C10: (签字或盖章)
A11: 编 制 人： | C11: （必填）
C12: （造价人员签字盖专用章）
A13: 编 制 时 间：
G14: 扉-3

Sheet 表-04 单位工程投标报价汇总表
A1: 单位工程投标报价汇总表
A2: 工程名称：燃气管道安装工程 | D2: 标段： | E2: 第 1 页 共 1 页
A3: 序号 | B3: 汇总内容 | C3: 金额:(元) | F3: 其中：暂估价(元)
A4: 1 | B4: 分部分项合计 | C4: ='表-08 分部分项工程和单价措施项目清单与计价表'!J44 -> 0
A5: 2 | B5: 措施合计 | C5: =C6+C7 -> 0
A6: 2.1 | B6: 安全防护、文明施工措施项目费 | C6: ='表-11 总价措施项目清单与计价表'!G4 -> 0
A7: 2.2 | B7: 其他措施费
A8: 3 | B8: 其他项目 | F8: －
A9: 3.1 | B9: 暂列金额
A10: 3.2 | B10: 暂估价
A11: 3.3 | B11: 计日工
A12: 3.4 | B12: 总承包服务费
A13: 3.5 | B13: 材料检验试验费
A14: 3.6 | B14: 预算包干费
A15: 3.7 | B15: 工程优质费
A16: 3.8 | B16: 索赔费用
A17: 3.9 | B17: 现场签证费用
A18: 3.10 | B18: 其他费用
A19: 4 | B19: 规费 | C19: ='表-13 规费、税金项目清单与计价表'!H4 -> 0 | F19: －
A20: 5 | B20: 税金 | C20: ='表-13 规费、税金项目清单与计价表'!H9 -> 0 | F20: －
A21: 6 | B21: 总造价 | C21: =C4+C5+C8+C19+C20 -> 0
A22: 7 | B22: 人工费
A36: 投标报价合计=1+2+3+4+5 | C36: =C21 -> 0
A37: 注：本表适用于单位工程招标控制价或投标报价的汇总，如无单位工程划分，单项工程也使用本表汇总
E38: 表—04

Sheet 表-08 分部分项工程和单价措施项目清单与计价表
A1: 分部分项工程和单价措施项目清单与计价表
A2: 工程名称：燃气管道安装工程 | E2: 标段： | H2: 第 1 页 共 2 页
A3: 序号 | B3: 项目编码 | C3: 项目名称 | D3: 项目特征描述 | F3: 计量单位 | G3: 工程量 | I3: 金额（元）
I4: 综合单价 | J4: 综合合价 | K4: 其中
K5: 暂估价
C6: 整个项目
A7: 1 | B7: 031001001001 | C7: 镀锌钢管（燃气专用无缝钢管D50） | D7: 1.安装部位:室外 2.输送介质:燃气 3.材质:焊接钢管 4.型号、规格:DN50mm 5.连接方式:焊接连接 6.含所需三通、弯头等管件 | F7: m | G7: 13 | J7: =G7*I7 -> 0
A8: 2 | B8: 031001002002 | C8: 镀锌钢管（燃气专用无缝钢管D57） | D8: 1.安装部位:室外 2.输送介质:燃气 3.材质:焊接钢管 4.型号、规格:DN57mm 5.连接方式:焊接连接 6.含所需三通、弯头等管件 | F8: m | G8: 24 | J8: =G8*I8 -> 0
A9: 3 | B9: 031201001001 | C9: 管道刷油 | D9: 管道除锈刷油:人工除轻锈，红丹漆两遍，调和漆两遍 | F9: m2 | G9: 9.778 | J9: =G9*I9 -> 0
A10: 4 | B10: 030503008001 | C10: 电动、电磁阀门（电磁阀DN50） | D10: 按设计图纸 | F10: 个 | G10: 1 | J10: =G10*I10 -> 0
A11: 5 | B11: 031003002001 | C11: 螺纹法兰阀门（球阀） | D11: 按设计图纸 | F11: 个 | G11: 3 | J11: =G11*I11 -> 0
A12: 6 | B12: 031003011001 | C12: 法兰（带颈平焊法兰）缠绕垫 | D12: 按设计图纸 | F12: 片 | G12: 9 | J12: =G12*I12 -> 0
A13: 7 | B13: 031002001001 | C13: 管道支架 | D13: 按设计图纸 | F13: kg | G13: 30 | J13: =G13*I13 -> 0
A14: 8 | B14: 031003011002 | C14: 法兰（法兰盖板） | D14: 按设计图纸 | F14: 片 | G14: 1 | J14: =G14*I14 -> 0
A15: 9 | B15: 粤031001012001 | C15: 燃气管道气压总体试验 | D15: 按设计图纸 | F15: m | G15: 37 | J15: =G15*I15 -> 0
A16: 10 | B16: 031002003001 | C16: 套管（刚性防水穿墙套管) | D16: 按设计图纸 | F16: 个 | G16: 2 | J16: =G16*I16 -> 0
A17: 11 | B17: 031007005001 | C17: 燃气表（无线远传膜式燃气表JGD16-ML-G） | D17: 1.公用 2.型号、规格:详设计图纸 3.托架材质及防腐:碳钢，红丹调和漆各两遍 | F17: 套 | G17: 1 | J17: =G17*I17 -> 0
A18: 本页小计 | J18: =SUM(J7:J17) -> 0
A19: 注：为计取规费等的使用，可在表中增设其中：“定额人工费”。
H20: 表—08
A21: 分部分项工程和单价措施项目清单与计价表
A22: 工程名称：燃气管道安装工程 | E22: 标段： | H22: 第 2 页 共 2 页
A23: 序号 | B23: 项目编码 | C23: 项目名称 | D23: 项目特征描述 | F23: 计量单位 | G23: 工程量 | I23: 金额（元）
I24: 综合单价 | J24: 综合合价 | K24: 其中
K25: 暂估价
A26: 12 | B26: 030904001001 | C26: 点型探测器（可燃气体报警探测器） | D26: 1.名称:可燃气体探测器 2.多线制:N+1 3.类型:传统型 4.含管线敷设、调试 5.按设计图纸要求布管、布线 | F26: 路 | G26: 2 | J26: =G26*I26 -> 0
A27: 13 | B27: 030607001001 | C27: 安全监测装置（可燃气体报警控制器） | D27: 1.公用 2.型号、规格:详设计图纸 3.托架材质及防腐:碳钢，红丹调和漆各两遍 | F27: 套 | G27: 1 | J27: =G27*I27 -> 0
A28: 14 | B28: 031007006001 | C28: 炉具改造费 | D28: 将液化气炉灶改造为适合甲方使用的同等参数的炉具 | F28: 台 | G28: 1 | J28: =G28*I28 -> 0
A29: 15 | B29: 031007006002 | C29: 炉具检测费 | D29: 改造后的炉具必须符合广州燃气集团相关规范要求 | F29: 台 | G29: 1 | J29: =G29*I29 -> 0
A30: 16 | B30: 031301018008 | C30: 代办报装费 | D30: 全过程涉及到的流程代办，以及协调监理、设计、检测机构、燃气集团等相关部门，确保通气点火 | F30: 项 | G30: 1 | J30: =G30*I30 -> 0
A31: 17 | B31: 031301018002 | C31: 设计费 | D31: 委托设计，由施工单位联系相关设计单位 | F31: 项 | G31: 1 | J31: =G31*I31 -> 0
A32: 18 | B32: 031301018007 | C32: 审图费 | F32: 项 | G32: 1 | J32: =G32*I32 -> 0
A33: 19 | B33: 031301018005 | C33: 带气接驳作业费 | F33: 项 | G33: 1 | J33: =G33*I33 -> 0
A34: 20 | B34: 031301018006 | C34: 装饰面修复费 | F34: 项 | G34: 1 | J34: =G34*I34 -> 0
A35: 21 | B35: 031301018003 | C35: 竣工资料编制费 | F35: 项 | G35: 1 | J35: =G35*I35 -> 0
A36: 22 | B36: 031301018004 | C36: 竣工验收报备费 | F36: 项 | G36: 1 | J36: =G36*I36 -> 0
A37: 23 | B37: 031301017002 | C37: 脚手架搭拆 | F37: 项 | G37: 1 | J37: =G37*I37 -> 0
C38: 措施项目
A43: 本页小计 | J43: =SUM(J26:J42) -> 0
A44: 合 计 | J44: =J18+J43 -> 0
...

Sheet 表-11 总价措施项目清单与计价表
A1: 总价措施项目清单与计价表
A2: 工程名称：燃气管道安装工程 | F2: 标段： | I2: 第 1 页 共 2 页
A3: 序号 | B3: 项目编码 | C3: 项目名称 | D3: 计算基础 | E3: 费率 (%) | G3: 金额 (元) | H3: 调整费率 (%) | J3: 调整后 金额 (元) | K3: 备注
A4: 1 | B4: 031302001001 | C4: 安全文明施工 | D4: 分部分项人工费 | E4: 3.8796 | G4: =0.038796*'表-08 分部分项工程和单价措施项目清单与计价表'!J44 -> 0 | K4: 以人工费为计算基础，费率28.9613%
A5: 2 | B5: 031302002001 | C5: 夜间施工增加费 | E5: 20 | K5: 以夜间施工项目人工费的20%计算
A6: 3 | B6: 031302003001 | C6: 非夜间施工增加 | D6: 管井内非夜间施工增加费+地下室非夜间施工增加费
A7: 4 | B7: 031302004001 | C7: 二次搬运
A8: 5 | B8: 031302005001 | C8: 冬雨季施工增加
A9: 6 | B9: 031302006001 | C9: 已完工程及设备保护
A10: 7 | B10: 031302007001 | C10: 高层施工增加 | D10: 高层增加费
A11: 8 | B11: 粤031302008001 | C11: 赶工措施费 | D11: 分部分项人工费 | E11: 0 | K11: 赶工措施费=（1-δ）*人工费*0.7 （0.8≤δ＜1 式中：δ=合同工期/定额工期）
A12: 9 | B12: 粤031302009001 | C12: 文明工地增加费 | D12: 分部分项合计 | E12: 0 | K12: 以分部分项工程费为计算基础；市级文明工地0.20%；省级文明工地0.40%
A13: 10 | B13: LSSGCSF00001 | C13: 绿色施工措施费 | D13: 分部分项合计 | E13: 0 | K13: 依据“穗建造价【2015】69号文”与“中山市住房和城乡建设局关于绿色施工措施费计价办法的通知”
A14: 编制人（造价人员）： | F14: 复核人（造价工程师）：
A15: 注：1.“计算基础”中安全文明施工费可为“定额基价”、“定额人工费”或“定额人工费+定额机械费”，其他项目可为“定额人工费”或“定额人工费+定额机械费”。 2.按施工方案计算的措施费，若无“计算基础”和“费率”的数值，也可只填“金额”数值，但应在备注栏说明施工方案出处或计算方法。
I16: 表-11
A17: 总价措施项目清单与计价表
A18: 工程名称：燃气管道安装工程 | F18: 标段： | I18: 第 2 页 共 2 页
A19: 序号 | B19: 项目编码 | C19: 项目名称 | D19: 计算基础 | E19: 费率 (%) | G19: 金额 (元) | H19: 调整费率 (%) | J19: 调整后 金额 (元) | K19: 备注
K20: ，安装、市政、地铁、修缮，绿色施工措施费可按分部分项工程费的0.4%计
A43: 合 计 | G43: =G4 -> 0
A44: 编制人（造价人员）： | F44: 复核人（造价工程师）：
A45: 注：1.“计算基础”中安全文明施工费可为“定额基价”、“定额人工费”或“定额人工费+定额机械费”，其他项目可为“定额人工费”或“定额人工费+定额机械费”。 2.按施工方案计算的措施费，若无“计算基础”和“费率”的数值，也可只填“金额”数值，但应在备注栏说明施工方案出处或计算方法。
I46: 表-11

Sheet 表-13 规费、税金项目清单与计价表
A1: 规费、税金项目清单与计价表
A2: 工程名称：燃气管道安装工程 | D2: 标段： | G2: 第 1 页 共 1 页
A3: 序号 | B3: 项目名称 | C3: 计算基础 | E3: 计算基数 | F3: 计算费率 (%) | H3: 金额(元)
A4: 1 | B4: 规费 | C4: 规费合计 | H4: =SUM(H5:H8) -> 0
A5: 1.1 | B5: 工程排污费 | C5: 分部分项合计+措施合计+其他项目 | F5: 0
A6: 1.2 | B6: 施工噪音排污费 | C6: 分部分项合计+措施合计+其他项目 | F6: 0
A7: 1.3 | B7: 防洪工程维护费 | C7: 分部分项合计+措施合计+其他项目 | F7: 0
A8: 1.4 | B8: 危险作业意外伤害保险 | C8: 分部分项合计+措施合计+其他项目 | E8: ='表-08 分部分项工程和单价措施项目清单与计价表'!J44+'表-11 总价措施项目清单与计价表'!G43 -> 0 | F8: 0.1 | H8: =E8*0.001 -> 0
A9: 2 | B9: 税金 | C9: 分部分项合计+措施合计+其他项目+规费 | E9: ='表-08 分部分项工程和单价措施项目清单与计价表'!J44+'表-11 总价措施项目清单与计价表'!G43+'表-13 规费、税金项目清单与计价表'!H4 -> 0 | F9: 3 | H9: =0.03*E9 -> 0
A33: 合 计 | H33: =H4+H9 -> 0
A34: 编制人（造价人员）： | D34: 复核人（造价工程师）：
G35: 表—13
