Workbook

Sheet 投标报价封面
A1: 2022年白云区供销总公司物业消防设备 维护保养项目
A2: 投 标 总 价
A3: 项 目 名 称： | B3: =A1 -> 2022年白云区供销总公司物业消防设备 维护保养项目
A4: 投 标 总 价： | B4: （小写）： | C4: =[1]报价汇总表!F33 -> 0
B5: （大写）： | C5: =C4 -> 0
A6: 投 标 人：
B7: (单位盖章)
A8: 法定代表人 或其授权人：
B9: (签字或盖章)
A10: 编 制 人：
B11: （造价人员签字盖专用章）
A12: 编 制 时 间：

Sheet 投标报价汇总表
A1: 工程量清单报价汇总表
A2: 项目名称：2023年度物业变配电设施设备维护保养项目
A3: 序号 | B3: 项目名称 | C3: 计量单位 | D3: 数量 | E3: 单价(元) | F3: 合价(元) | G3: 备注
A4: =ROW()-3 -> 1 | B4: =清单与计价表!B4 -> 嘉禾丰兴商业广场 | C4: 项 | D4: 1 | E4: =清单与计价表!J14 -> 0 | F4: =E4*D4 -> 0
A5: =ROW()-3 -> 2 | B5: =清单与计价表!B15 -> 石井百货公司 | C5: 项 | D5: 1 | E5: =清单与计价表!J21 -> 0 | F5: =E5*D5 -> 0
A6: =ROW()-3 -> 3 | B6: =清单与计价表!B22 -> 石井槎头商铺 | C6: 项 | D6: 1 | E6: =清单与计价表!J32 -> 0 | F6: =E6*D6 -> 0
A7: =ROW()-3 -> 4 | B7: =清单与计价表!B33 -> 太和生产资料 | C7: 项 | D7: 1 | E7: =清单与计价表!J39 -> 0 | F7: =E7*D7 -> 0
A8: =ROW()-3 -> 5 | B8: =清单与计价表!B40 -> 人和旧办公室 | C8: 项 | D8: 1 | E8: =清单与计价表!J46 -> 0 | F8: =E8*D8 -> 0
A9: =ROW()-3 -> 6 | B9: =清单与计价表!B47 -> 江村综合商场 | C9: 项 | D9: 1 | E9: =清单与计价表!J53 -> 0 | F9: =E9*D9 -> 0
A10: =ROW()-3 -> 7 | B10: =清单与计价表!B54 -> 竹料茶楼 | C10: 项 | D10: 1 | E10: =清单与计价表!J60 -> 0 | F10: =E10*D10 -> 0
A11: =ROW()-3 -> 8 | B11: =清单与计价表!B61 -> 竹料旧酱场 | C11: 项 | D11: 1 | E11: =清单与计价表!J67 -> 0 | F11: =E11*D11 -> 0
A12: =ROW()-3 -> 9 | B12: =清单与计价表!B68 -> 中和厂房 | C12: 项 | D12: 1 | E12: =清单与计价表!J74 -> 0 | F12: =E12*D12 -> 0
A13: =ROW()-3 -> 10 | B13: =清单与计价表!B75 -> 沙岗岭厂房 | C13: 项 | D13: 1 | E13: =清单与计价表!J81 -> 0 | F13: =E13*D13 -> 0
A14: =ROW()-3 -> 11 | B14: =清单与计价表!B82 -> 新和厂房 | C14: 项 | D14: 1 | E14: =清单与计价表!J88 -> 0 | F14: =E14*D14 -> 0
A15: A | B15: 小计 | F15: =SUM(F4:F14) -> 0
A16: B | B16: 税金（A）×6% | F16: =F15*6% -> 0
A17: C | B17: 含税合计（A+B） | F17: =F15+F16 -> 0

Sheet 清单与计价表
A1: 变配电设施设备维护保养项目清单与计价表
A2: 项目名称：2023年度物业变配电设施设备维护保养项目
A3: 序号 | B3: 项目名称 | C3: 项目地址 | D3: 主要设备明细 | E3: 设备型号 | F3: 部分现有设备厂牌 | G3: 计量单位 | H3: 数量 | I3: 单价（元） | J3: 合价（元）
A4: 1 | B4: 嘉禾丰兴商业广场 | C4: 广花路西侧加禾墟东街68号,4号,加禾东横街20号,12号 | D4: 800K变压器 | E4: S11-800 | F4: 明珠电气股份有限公司 | G4: 台 | H4: 1 | J4: =H4*I4 -> 0
D5: 高压柜 | E5: KYN | F5: 广东中兴电器开关股份有限公司 | G5: 具 | H5: 2 | J5: =H5*I5 -> 0
D6: 直流屏电柜蓄电池系统 | F6: 广东中兴电器开关股份有限公司 | G6: 套 | H6: 1 | J6: =H6*I6 -> 0
D7: 低压柜 | E7: GCL | F7: 佛山市顺德区永丰机电设备实业有限公司 | G7: 具 | H7: 4 | J7: =H7*I7 -> 0
D8: 零序保护 | G8: 套 | H8: 1 | J8: =H8*I8 -> 0
D9: 瓦斯保护 | G9: 套 | H9: 1 | J9: =H9*I9 -> 0
D10: 高压电缆（100米内） | G10: 项 | H10: 1 | J10: =H10*I10 -> 0
D11: 户内电缆头 | G11: 套 | H11: 4 | J11: =H11*I11 -> 0
D12: 避雷器 | G12: 组 | H12: 1 | J12: =H12*I12 -> 0
D13: 直流电动操作定时限保护 | G13: 项 | H13: 1 | J13: =H13*I13 -> 0
A14: 小计 | J14: =SUM(J4:J13) -> 0
A15: 2 | B15: 石井百货公司 | C15: 石井桥头直街1号 | D15: 250K变压器 | E15: S11-250 | F15: 广州南方电力集团电器有限公司 | G15: 台 | H15: 1 | J15: =H15*I15 -> 0
D16: 高压柜 | E16: HXGN | F16: 广州南方电力集团电器有限公司 | G16: 具 | H16: 2 | J16: =H16*I16 -> 0
D17: 低压柜 | E17: GGD | F17: 佛山市顺德区永丰机电设备实业有限公司 | G17: 具 | H17: 3 | J17: =H17*I17 -> 0
D18: 高压电缆（100米内） | G18: 项 | H18: 1 | J18: =H18*I18 -> 0
D19: 户内电缆头 | G19: 套 | H19: 2 | J19: =H19*I19 -> 0
D20: 避雷器 | G20: 组 | H20: 1 | J20: =H20*I20 -> 0
A21: 小计 | J21: =SUM(J15:J20) -> 0
A22: 3 | B22: 石井槎头商铺 | C22: 白云区石井镇西槎路槎头大街753-763号 | D22: 800K变压器 | E22: S11-800 | F22: 海南威特电气集团有限公司 | G22: 台 | H22: 1 | J22: =H22*I22 -> 0
D23: 高压柜 | E23: KYN | F23: 广东顺德怡洋电器设备有限公司 | G23: 具 | H23: 2 | J23: =H23*I23 -> 0
D24: 低压柜 | E24: GCL | F24: 广东顺德怡洋电器设备有限公司 | G24: 具 | H24: 4 | J24: =H24*I24 -> 0
D25: 直流屏电柜（蓄电池系统） | F25: 广东顺德怡洋电器设备有限公司 | G25: 套 | H25: 1 | J25: =H25*I25 -> 0
D26: 零序保护 | G26: 套 | H26: 1 | J26: =H26*I26 -> 0
D27: 瓦斯保护 | G27: 套 | H27: 1 | J27: =H27*I27 -> 0
D28: 高压电缆（370米） | G28: 项 | H28: 1 | J28: =H28*I28 -> 0
D29: 户内电缆头 | G29: 套 | H29: 2 | J29: =H29*I29 -> 0
D30: 避雷器 | G30: 组 | H30: 1 | J30: =H30*I30 -> 0
D31: 直流电动操作定时限保护 | G31: 项 | H31: 1 | J31: =H31*I31 -> 0
A32: 小计 | J32: =SUM(J22:J31) -> 0
A33: 4 | B33: 太和生产资料 | C33: 白云区太和镇朝亮中路18、20、22、24、26号 | D33: 630K变压器（干式） | E33: SCB11-630KVA | G33: 台 | H33: 1 | J33: =H33*I33 -> 0
D34: 高压柜 | E34: HXGN | F34: 广州白云电器设备股份有限公司 | G34: 具 | H34: 4 | J34: =H34*I34 -> 0
D35: 低压柜 | E35: GGD | F35: 广州白云电器设备股份有限公司 | G35: 具 | H35: 4 | J35: =H35*I35 -> 0
D36: 高压电缆（100米内） | G36: 项 | H36: 1 | J36: =H36*I36 -> 0
D37: 户内电缆头 | G37: 套 | H37: 4 | J37: =H37*I37 -> 0
D38: 避雷器 | G38: 组 | H38: 1 | J38: =H38*I38 -> 0
A39: 小计 | J39: =SUM(J33:J38) -> 0
A40: 5 | B40: 人和旧办公室 | C40: 人和镇人和墟大街22号 | D40: 315K变压器 | E40: S11-315 | G40: 台 | H40: 1 | J40: =H40*I40 -> 0
...
